BEGIN:VCALENDAR
VERSION:2.0
PRODID:-//Zig Zag - ECPv6.15.17.1//NONSGML v1.0//EN
CALSCALE:GREGORIAN
METHOD:PUBLISH
X-WR-CALNAME:Zig Zag
X-ORIGINAL-URL:https://zigzag.org.au
X-WR-CALDESC:Events for Zig Zag
REFRESH-INTERVAL;VALUE=DURATION:PT1H
X-Robots-Tag:noindex
X-PUBLISHED-TTL:PT1H
BEGIN:VTIMEZONE
TZID:Australia/Brisbane
BEGIN:STANDARD
TZOFFSETFROM:+1000
TZOFFSETTO:+1000
TZNAME:AEST
DTSTART:20170101T000000
END:STANDARD
END:VTIMEZONE
BEGIN:VEVENT
DTSTART;TZID=Australia/Brisbane:20231128T150000
DTEND;TZID=Australia/Brisbane:20231128T170000
DTSTAMP:20260425T050248
CREATED:20231102T005343Z
LAST-MODIFIED:20231102T005343Z
UID:1329-1701183600-1701190800@zigzag.org.au
SUMMARY:2023 Zig Zag AGM
DESCRIPTION:“You are invited to our 2023 Annual General Meeting”\nFriends and supporters of Zig Zag are welcomed to our 35th Annual General Meeting\, \nDate: 28th November 3pm-5pm \nLocation: Seven Hills Hub 28 Tallow Street\, Seven Hills \nRSVP: 19th November to Sonja at Zig Zag on 3843 1823 or via email info[@]zigzag.org.au \nAfternoon tea will be provided and transport assistance is available to young women and children if requested in advance. \nClick Here to Download Invitation \nClick here to become a Financial Member \nZig Zag calls for Management Committee nominations to be elected/appointed at the Annual General Meeting\, for more information email info[@]zigzag.org.au
URL:https://zigzag.org.au/event/2023-zig-zag-agm/
LOCATION:Seven Hills Hub\, 28 Tallowwood Street\, Seven Hills\, Qld\, 4170\, Australia
ATTACH;FMTTYPE=image/jpeg:https://zigzag.org.au/wp-content/uploads/2023/11/ZZYWRC-AGM-invite-23-scaled.jpg
END:VEVENT
BEGIN:VEVENT
DTSTART;TZID=Australia/Brisbane:20221129T150000
DTEND;TZID=Australia/Brisbane:20221129T170000
DTSTAMP:20260425T050248
CREATED:20221028T012436Z
LAST-MODIFIED:20221028T012436Z
UID:1193-1669734000-1669741200@zigzag.org.au
SUMMARY:2022 Zig Zag AGM
DESCRIPTION:“You are invited to our 2022 Annual General Meeting”\nFriends and supporters of Zig Zag are welcomed to our 34th Annual General Meeting\, \nDate: 29th November 3pm-5pm \nLocation: Seven Hills Hub 28 Tallow Street\, Seven Hills \nRSVP: 19th November to Sonja at Zig Zag on 3843 1823 or via email info[@]zigzag.org.au \nAfternoon tea will be provided and transport assistance is available to young women and children if requested in advance. \nClick Here To Download: Invitation \nClick Here to Download: 2022 Financial Membership Form
URL:https://zigzag.org.au/event/2022-zig-zag-agm/
LOCATION:Seven Hills Hub\, 28 Tallowwood Street\, Seven Hills\, Qld\, 4170\, Australia
ATTACH;FMTTYPE=image/png:https://zigzag.org.au/wp-content/uploads/2022/10/AGM-2022-Webt.png
END:VEVENT
BEGIN:VEVENT
DTSTART;TZID=Australia/Brisbane:20211130T150000
DTEND;TZID=Australia/Brisbane:20211130T170000
DTSTAMP:20260425T050248
CREATED:20211028T040527Z
LAST-MODIFIED:20211124T223302Z
UID:923-1638284400-1638291600@zigzag.org.au
SUMMARY:2021 Zig Zag AGM
DESCRIPTION:“You are invited to our 2021 Annual General Meeting”\nFriends and supporters of Zig Zag are welcomed to our 33rd Annual General Meeting\, \nDate: 30th November 2021 3pm-5pm \nLocation: Seven Hills Hub 28 Tallow Street\, Seven Hills \nIf a COVID-19 Lockdown occurs\, then Zoom details and documentation will be forwarded on receipt of confirmation RSVP. \nRSVP: 19th November to Sonja at Zig Zag on 3843 1823 or via email info[@]zigzag.org.au \nAfternoon tea will be provided and transport assistance is available to young women and children if requested in advance. \nClick Here To Download: Invitation \nClick Here to Download: 2021 Financial Membership Form \nClick Here to Download: Public Notification of Management Committee Nominations for 2020-2021 
URL:https://zigzag.org.au/event/2021-zig-zag-agm/
LOCATION:Seven Hills Hub\, 28 Tallowwood Street\, Seven Hills\, Qld\, 4170\, Australia
ATTACH;FMTTYPE=image/jpeg:https://zigzag.org.au/wp-content/uploads/2021/10/AGM-2021-eBanner-02.jpg
END:VEVENT
BEGIN:VEVENT
DTSTART;TZID=Australia/Brisbane:20201124T030000
DTEND;TZID=Australia/Brisbane:20201124T160000
DTSTAMP:20260425T050248
CREATED:20201111T024953Z
LAST-MODIFIED:20201111T024953Z
UID:779-1606186800-1606233600@zigzag.org.au
SUMMARY:Zig Zag 32nd Annual General Meeting 2020
DESCRIPTION:Wednesday\, 24th November 2020\nThe AGM will be held: \nDATE: Tuesday\, 24th November 2020 \nTIME: 3pm – 4pm \nLOCATION: Online Only – Zoom Webinar \nThe agenda\, nominations and associated material will be emailed once confirmation of RSVP is received \nRSVP:  20 November 2020 by email: sonja[at]zigzag.org.au or phone: 3843 1823 \nClick Here To Download Invitation
URL:https://zigzag.org.au/event/zig-zag-32nd-annual-general-meeting-2020/
LOCATION:Qld
END:VEVENT
BEGIN:VEVENT
DTSTART;TZID=Australia/Brisbane:20200309T150000
DTEND;TZID=Australia/Brisbane:20200309T160000
DTSTAMP:20260425T050248
CREATED:20200227T042418Z
LAST-MODIFIED:20200227T042706Z
UID:688-1583766000-1583769600@zigzag.org.au
SUMMARY:Women's Week & International Women's Day : Camp Hill
DESCRIPTION:Come join us to celebrate Women’s Week & International Women’s Day\nThis year we are inviting all young women and stakeholders to join us for a relaxing afternoon tea at Zig Zag Camp Hill to ‘Celebrate Our Diverse Community of Strong Women’. \nAfternoon tea will be provided\nCost: Free\nRSVP: 6 March 2020 either by email: jane[at]zigzag.org.au or phone: 3843 1823 \nClick Here To Download Flyer \nIF YOUR A YOUNG WOMAN AND NEED HELP WITH TRANSPORT\, LET’S TALK. HOPE TO HEAR FROM YOU SOON!
URL:https://zigzag.org.au/event/womens-week-international-womens-day-camp-hill/
LOCATION:Zig Zag Camp Hill\, 575 Old Cleveland Road\, Camp Hill\, Qld\, 4152\, Australia
ATTACH;FMTTYPE=image/jpeg:https://zigzag.org.au/wp-content/uploads/2020/02/Celebrating-International-Womens-Camp-Hill.jpg
END:VEVENT
BEGIN:VEVENT
DTSTART;TZID=Australia/Brisbane:20200305T103000
DTEND;TZID=Australia/Brisbane:20200305T123000
DTSTAMP:20260425T050248
CREATED:20200226T235415Z
LAST-MODIFIED:20200226T235415Z
UID:681-1583404200-1583411400@zigzag.org.au
SUMMARY:International Women's Day & Voices for Change Project : Richlands
DESCRIPTION:Come join us to celebrate International Women’s Day & Voices for Change Project\nZig Zag is very excited to announce it will be running another V.O.I.C.E.S. for Change project in 2020. \nThe V.O.I.C.E.S (Videos Of Ideas\, Collective Experiences and Stories) for Change Project 3 will engage young Aboriginal and Torres Strait Islander women to develop age appropriate and culturally relevant digital and print resources for the prevention of violence. \nClick link for past V.O.I.C.E.S Projects https://zigzag.org.au/2019/08/23/voices-for-change/ \nZig Zag believes that young women are best placed to share their stories and experiences for the promotion of key messages to the community on violence prevention\, to encourage their peers to seek support and assistance\, and to contribute to attitudinal change necessary to address the disproportionally high incidence of sexual violence experienced by young women. \nThe project will commence in June 2020 with a series of workshops where young women can share ideas about the content of the digital stories to be created in the two-day workshop occurring in August 2020. \nWorkers are committed to ensuring the safety and cultural appropriateness of the workshops and any material produced from these. Therefore\, our connections with Aboriginal and Torres Strait Islander colleagues and Elders are vital in order to enable avenues for an exchange of ideas and feedback regarding safety and cultural appropriateness of the Project\, in addition to opportunities for referral of any young Aboriginal and Torres Strait Islander women (12 to 25 years) who might be interested in participating. \nWe wish to invite you to our International Women’s Day morning at Richlands Community Centre\, which we hope will enable us to connect with each other\, and share any thoughts or feedback about our proposed project\, in addition to sharing some yummy food and celebrating the diversity and strength of our young women. \nMorning tea will be provided.\nCost: Free\nRSVP: 3 March 2020 either by email: inala[at]zigzag.org.au or phone: 3843 1823 \nClick Here To Download Flyer \nIF YOU NEED ASSISTANCE WITH TRANSPORT\, LET’S TALK. HOPE TO HEAR FROM YOU SOON!
URL:https://zigzag.org.au/event/international-womens-day-voices-for-change-project-richlands/
LOCATION:Richlands Community Centre\, 75 Old Progress Road\, Richlands\, QLD\, 4077\, Australia
ATTACH;FMTTYPE=image/jpeg:https://zigzag.org.au/wp-content/uploads/2020/02/IWD-and-Voices.jpg
END:VEVENT
BEGIN:VEVENT
DTSTART;TZID=Australia/Brisbane:20191203T110000
DTEND;TZID=Australia/Brisbane:20191203T150000
DTSTAMP:20260425T050248
CREATED:20191120T032636Z
LAST-MODIFIED:20191120T032636Z
UID:640-1575370800-1575385200@zigzag.org.au
SUMMARY:Young Women's End of Year Party
DESCRIPTION:“Come along and celebrate with us”\nCome along to our end of year party for young women aged between 12 – 25 years. \nChildren welcome – free activities and food including face paining\, photo booth\, circus activities\, nail painting and massage.\nCost: Free \nDate: 3rd December 2019 | 11:00am – 2pm \nLocation: Zig Zag\, 575 Old Cleveland Road\, Camp Hill\, Qld 4152 \nRSVP to Sonja at Zig Zag on 3843 1823 or via info[@]zigzag.org.au \nLunch will be provided and transport assistance is available if requested in advance. \nClick Here To Download Flyer
URL:https://zigzag.org.au/event/young-womens-end-of-year-party/
LOCATION:Zig Zag Camp Hill\, 575 Old Cleveland Road\, Camp Hill\, Qld\, 4152\, Australia
ATTACH;FMTTYPE=image/jpeg:https://zigzag.org.au/wp-content/uploads/2019/11/EOY-Party-YW.jpg
END:VEVENT
BEGIN:VEVENT
DTSTART;VALUE=DATE:20191130
DTEND;VALUE=DATE:20191201
DTSTAMP:20260425T050248
CREATED:20190612T014459Z
LAST-MODIFIED:20191120T031752Z
UID:552-1575072000-1575072000@zigzag.org.au
SUMMARY:"Healing Is Possible" Booklet Update : Dates Open
DESCRIPTION:“Healing is Possible : booklet update project”\nCome be a part of updating this valuable resource\, invitation is open to young women aged between 12-25 years. \nArtwork\, wording\, general feedback – Zig Zag would love your contribution to this valuable resource. \nDates are open to your availability. \nRSVP to Eliane at Zig Zag on 3843 1823 or via info[@]zigzag.org.au to discuss availability. \nClick Here to Download Flyer
URL:https://zigzag.org.au/event/healing-is-possible-booklet-update-dates-open/
LOCATION:TBC
ATTACH;FMTTYPE=image/jpeg:https://zigzag.org.au/wp-content/uploads/2019/06/Healing-is-Possible-2.jpg
END:VEVENT
BEGIN:VEVENT
DTSTART;TZID=Australia/Brisbane:20191126T150000
DTEND;TZID=Australia/Brisbane:20191126T170000
DTSTAMP:20260425T050248
CREATED:20191119T234524Z
LAST-MODIFIED:20191120T032443Z
UID:626-1574780400-1574787600@zigzag.org.au
SUMMARY:2019 Zig Zag AGM
DESCRIPTION:“You are invited to our 2019 Annual General Meeting”\nFriends and supporters of Zig Zag are welcomed to our 31st Annual General Meeting\, \nWe are excited to also launch the 2nd edition of Healing is Possible in collaboration with young women.\nDate: 26th November 2019 3pm-5pm \nLocation: Zig Zag Young Women’s Resource Centre 575 Old Cleveland Road\, Camp Hill \nRSVP: 22nd November to Sonja at Zig Zag on 3843 1823 or via email info[@]zigzag.org.au \nAfternoon tea will be provided and transport assistance is available to young women and children if requested in advance. \nClick Here To Download Invitation \nClick Here to Download 2019 Financial Membership Form
URL:https://zigzag.org.au/event/2019-zig-zag-agm/
LOCATION:Zig Zag Camp Hill\, 575 Old Cleveland Road\, Camp Hill\, Qld\, 4152\, Australia
ATTACH;FMTTYPE=image/jpeg:https://zigzag.org.au/wp-content/uploads/2019/11/AGM.jpg
END:VEVENT
BEGIN:VEVENT
DTSTART;TZID=Australia/Brisbane:20190902T103000
DTEND;TZID=Australia/Brisbane:20190902T133000
DTSTAMP:20260425T050248
CREATED:20190822T032321Z
LAST-MODIFIED:20190822T032321Z
UID:576-1567420200-1567431000@zigzag.org.au
SUMMARY:"Second Art Workshop" Booklet Update
DESCRIPTION:“Second Art Workshop : booklet update”\nCome along to a free art workshop to create new images for the Healing is Possible resource\, invitation is open to young women aged between 12-25 years. \nJoined by an art worker who will facilitate the workshop\, all art supplies will be provided and no art skills are required. \nArt skills are not required! \nCost: Free \nDate: 2nd September\, 2019 \nLocation: Zig Zag\, 575 Old Cleveland Road\, Camp Hill \nRSVP to Eliane at Zig Zag on 3843 1823 or via info[@]zigzag.org.au to discuss availability. \nClick Here to Download Flyer
URL:https://zigzag.org.au/event/second-art-workshop-booklet-update/
LOCATION:Zig Zag Camp Hill\, 575 Old Cleveland Road\, Camp Hill\, Qld\, 4152\, Australia
ATTACH;FMTTYPE=image/jpeg:https://zigzag.org.au/wp-content/uploads/2019/08/Art-Workshop.jpg
END:VEVENT
BEGIN:VEVENT
DTSTART;TZID=Australia/Brisbane:20190815T140000
DTEND;TZID=Australia/Brisbane:20190815T160000
DTSTAMP:20260425T050248
CREATED:20190806T061158Z
LAST-MODIFIED:20190806T061647Z
UID:560-1565877600-1565884800@zigzag.org.au
SUMMARY:"Art Workshop" Booklet Update
DESCRIPTION:“Art Workshop : booklet update”\nCome along to a free art workshop to create new images for the Healing is Possible resource\, invitation is open to young women aged between 12-25 years. \nJoined by an art worker who will facilitate the workshop\, all art supplies will be provided and no art skills are required. \nArt skills are not required! \nCost: Free \nDate: 15th August\, 2019 \nLocation: Zig Zag\, 575 Old Cleveland Road\, Camp Hill \nRSVP to Eliane at Zig Zag on 3843 1823 or via info[@]zigzag.org.au to discuss availability. \nClick Here to Download Flyer
URL:https://zigzag.org.au/event/art-workshop-booklet-update/
LOCATION:Zig Zag Camp Hill\, 575 Old Cleveland Road\, Camp Hill\, Qld\, 4152\, Australia
ATTACH;FMTTYPE=image/jpeg:https://zigzag.org.au/wp-content/uploads/2019/08/Art-Workshop.jpg
END:VEVENT
BEGIN:VEVENT
DTSTART;TZID=Australia/Brisbane:20190515T080000
DTEND;TZID=Australia/Brisbane:20190515T170000
DTSTAMP:20260425T050248
CREATED:20190515T052705Z
LAST-MODIFIED:20190515T054158Z
UID:539-1557907200-1557939600@zigzag.org.au
SUMMARY:Nurture Day
DESCRIPTION:“Nurture Day : Come along and relax”\nCome along to a free nurture day for young women aged between 12 – 25 years. \nNurture day is a day for you with pampering options\, good food\, child entertainment in a relaxing environment. \nCost: Free \nDate: 23 May 10.30 – 1.30 \nLocation: Zig Zag\, 575 Old Cleveland Road\, Camp Hill\, Qld 4152 \nRSVP to Eliane at Zig Zag on 3843 1823 or via info[@]zigzag.org.au \nLunch will be provided and transport assistance is available if requested in advance. \nClick Here To Download Flyer
URL:https://zigzag.org.au/event/nurture-day/
LOCATION:Qld
ATTACH;FMTTYPE=image/jpeg:https://zigzag.org.au/wp-content/uploads/2019/05/Nuture-Day.jpg
END:VEVENT
BEGIN:VEVENT
DTSTART;TZID=Australia/Brisbane:20190411T130000
DTEND;TZID=Australia/Brisbane:20190411T160000
DTSTAMP:20260425T050248
CREATED:20190318T074014Z
LAST-MODIFIED:20190318T074014Z
UID:504-1554987600-1554998400@zigzag.org.au
SUMMARY:Succulent Bloom Workshop
DESCRIPTION:“Succulent Bloom : Navigate your way through hard times”\nCome along to a free support group for young women aged between 12 to 18 years. \nCreate your own terrarium and discuss strategies for our survival and roots of resilience. \nThe group is during the school holidays. \nCost: Free \nDate: Thursday 11 April 1pm – 4pm \nLocation: Richlands Community Centre\, 75 Old Progress Rd\, Richlands \nRSVP by 9 April to Ritu at Zig Zag on 3843 1823 or via inala[@]zigzag.org.au \nAfternoon tea will be provided and transport assistance is available if requested in advance. \nClick Here To Download Flyer
URL:https://zigzag.org.au/event/succulent-bloom-workshop/
LOCATION:Richlands Community Centre\, 75 Old Progress Road\, Richlands\, QLD\, 4077\, Australia
ATTACH;FMTTYPE=image/jpeg:https://zigzag.org.au/wp-content/uploads/2019/03/Bloom-Workshop-18.3.2019.jpg
END:VEVENT
BEGIN:VEVENT
DTSTART;TZID=Australia/Brisbane:20190409T100000
DTEND;TZID=Australia/Brisbane:20190409T113000
DTSTAMP:20260425T050248
CREATED:20190318T071227Z
LAST-MODIFIED:20190325T034229Z
UID:498-1554804000-1554809400@zigzag.org.au
SUMMARY:Digital Story-Telling Workshop
DESCRIPTION:We need your V.O.I.C.E.S for change\nIf you are a young woman under 25\, we invite you to participate and share the messages you’d like other young women to hear about sexual assault and harassment. \nLearn to edit awesome video clips with your smart phone. \nCost: Free \nDates: Pre-workshop meeting 9th April and Digital Story Telling Workshops – 15th and 16th April 2019 \nTimes and Location to be confirmed \nFor more information phone Zig Zag on 3843 1823 or via email info[@]zigzag.org.au \nClick Here To Download Flyer \nCatering will be provided as well as transport assistance and childcare if requested in advance.
URL:https://zigzag.org.au/event/digital-story-telling-workshop/
LOCATION:TBC
ATTACH;FMTTYPE=image/jpeg:https://zigzag.org.au/wp-content/uploads/2019/03/VOICES.jpg
END:VEVENT
BEGIN:VEVENT
DTSTART;TZID=Australia/Brisbane:20190408T110000
DTEND;TZID=Australia/Brisbane:20190408T133000
DTSTAMP:20260425T050248
CREATED:20190325T034025Z
LAST-MODIFIED:20190325T034440Z
UID:510-1554721200-1554730200@zigzag.org.au
SUMMARY:Healing Is Possible Booklet Update Workshop
DESCRIPTION:Come along and contribute to the updating of our ‘Healing is Possible’ Booklet\nIf you are a young woman aged between 12- 25\, we invite you to come along. \nFour workshops throughout the year with a final launch celebration of the updated printed booklet! \nCost: Free \n1st Workshop Date: 8 April 2019 \nTime: 11am – 1.30PM \nLocation: 575 Old Cleveland Road\, Camp Hill \nFor more information phone Zig Zag on 3843 1823 or via email info[@]zigzag.org.au \nClick Here To Download Flyer \nLunch will be provided (as well as transport assistance and childcare if requested in advance).
URL:https://zigzag.org.au/event/healing-is-possible-booklet-update-workshop/
LOCATION:Zig Zag Camp Hill\, 575 Old Cleveland Road\, Camp Hill\, Qld\, 4152\, Australia
ATTACH;FMTTYPE=image/jpeg:https://zigzag.org.au/wp-content/uploads/2019/03/Healing-is-Possible.jpg
END:VEVENT
BEGIN:VEVENT
DTSTART;TZID=Australia/Brisbane:20190308T100000
DTEND;TZID=Australia/Brisbane:20190308T120000
DTSTAMP:20260425T050248
CREATED:20190226T060601Z
LAST-MODIFIED:20190226T063822Z
UID:490-1552039200-1552046400@zigzag.org.au
SUMMARY:International Women's Day
DESCRIPTION:Come join us to celebrate International Women’s Day\nThis year we are inviting all women and stakeholders to join us for a relaxing morning tea at Richlands Community Centre. \nMorning tea will be provided.\nCost: Free\nRSVP: 4 March 2019 either by email: info[at]zigzag.org.au or phone: 3843 1823 \nClick Here To Download Flyer \nIF YOU NEED CHILD CARE OR HELP WITH TRANSPORT\, LET’S TALK. HOPE TO HEAR FROM YOU SOON!
URL:https://zigzag.org.au/event/international-womens-day/
LOCATION:Richlands Community Centre\, 75 Old Progress Road\, Richlands\, QLD\, 4077\, Australia
ATTACH;FMTTYPE=image/jpeg:https://zigzag.org.au/wp-content/uploads/2019/02/womens-day-5.jpg
END:VEVENT
BEGIN:VEVENT
DTSTART;TZID=Australia/Brisbane:20181122T170000
DTEND;TZID=Australia/Brisbane:20181122T193000
DTSTAMP:20260425T050248
CREATED:20181101T001326Z
LAST-MODIFIED:20181101T014050Z
UID:427-1542906000-1542915000@zigzag.org.au
SUMMARY:Happy 30th Birthday Zig Zag!!
DESCRIPTION:It’s our 30th Birthday!!  \nWe would love to extend an invitation to young women\, past workers\, other services\, members\, donors\, stakeholders and all those who have walked alongside Zig Zag Young Women’s Resource Centre to join us in celebrating this important event!! \nWe will be holding our Annual General Meeting from 4pm – 5pm before the 30th Birthday party starts with performers\, photo booth and children’s entertainment. \nLight refreshments will be provided with alcohol to purchase.  \nPlaces are limited for this free event\, and ticket reservation is essential – see event website for details.  \nNOTE: we will be closing the front entrance to Hanworth House on Lytton Road to ensure the safety of guests and small children attending. Please enter the grounds of Hanworth House via the rear entrance on Hanworth Street\, East Brisbane. There will be street parking available. \nWe look forward to seeing you there!!
URL:https://zigzag.org.au/event/happy-30th-birthday-zig-zag/
LOCATION:Hanworth House\, 109 Lytton Road\, East Brisbane\, Queensland\, 4169\, Australia
ORGANIZER;CN="Zig Zag":MAILTO:info@zigzag.org.au
END:VEVENT
BEGIN:VEVENT
DTSTART;TZID=Australia/Brisbane:20181022T150000
DTEND;TZID=Australia/Brisbane:20181022T170000
DTSTAMP:20260425T050248
CREATED:20181008T005717Z
LAST-MODIFIED:20181008T005717Z
UID:273-1540220400-1540227600@zigzag.org.au
SUMMARY:Music Workshop
DESCRIPTION:Come join us for some fun creating music together\nWe will explore how music impacts the ups and downs of our lives & write a short song. \nA fun activity for young women aged 12-25. \nAfternoon tea provided.\nCost: Free\nRSVP: BY THE 15th October. TALK TO JACQUI OR KRISTYLEE ON 3843 1823\nBring your own instruments (especially percussive ones) if you have them.\nIF YOU NEED CHILD CARE OR HELP WITH TRANSPORT\, LET’S TALK. HOPE TO HEAR FROM YOU SOON!
URL:https://zigzag.org.au/event/music-workshop/
LOCATION:Zillmere Community Centre\, 54 Hanford Rd\, Zillmere\, QLD\, Australia
ATTACH;FMTTYPE=image/jpeg:https://zigzag.org.au/wp-content/uploads/2018/10/david-menidrey-389997-unsplash-e1538960153385.jpg
END:VEVENT
BEGIN:VEVENT
DTSTART;VALUE=DATE:20181001
DTEND;VALUE=DATE:20181101
DTSTAMP:20260425T050248
CREATED:20180928T032347Z
LAST-MODIFIED:20190723T021413Z
UID:206-1538352000-1541030399@zigzag.org.au
SUMMARY:Sexual Violence Awareness Month (SVAM) 2018
DESCRIPTION:Sexual Violence Awareness Month is held during October each year to: \n\nraise community awareness about sexual violence\npromote the support options available to people affected by sexual assault and sexual abuse\, and\nuphold a clear message that sexual violence will not be tolerated in our communities.\n\nZig Zag will be running a number of events\, as are other organisations across Brisbane.
URL:https://zigzag.org.au/event/sexual-violence-awareness-month-svam-2018/
LOCATION:Qld
ATTACH;FMTTYPE=image/jpeg:https://zigzag.org.au/wp-content/uploads/2018/09/svam-2018.jpg
END:VEVENT
END:VCALENDAR